BEGIN:VCALENDAR
VERSION:2.0
PRODID:-//jEvents 2.0 for Joomla//EN
CALSCALE:GREGORIAN
METHOD:PUBLISH
BEGIN:VTIMEZONE
TZID:Europe/Berlin
BEGIN:STANDARD
DTSTART:20200219T190000
RDATE:20200329T030000
TZOFFSETFROM:+0200
TZOFFSETTO:+0100
TZNAME:Europe/Berlin CET
END:STANDARD
BEGIN:STANDARD
DTSTART:20201025T020000
RDATE:20210328T030000
TZOFFSETFROM:+0200
TZOFFSETTO:+0100
TZNAME:Europe/Berlin CET
END:STANDARD
BEGIN:STANDARD
DTSTART:20211031T020000
RDATE:20220327T030000
TZOFFSETFROM:+0200
TZOFFSETTO:+0100
TZNAME:Europe/Berlin CET
END:STANDARD
BEGIN:STANDARD
DTSTART:20221030T020000
RDATE:20230326T030000
TZOFFSETFROM:+0200
TZOFFSETTO:+0100
TZNAME:Europe/Berlin CET
END:STANDARD
BEGIN:STANDARD
DTSTART:20231029T020000
RDATE:20240331T030000
TZOFFSETFROM:+0200
TZOFFSETTO:+0100
TZNAME:Europe/Berlin CET
END:STANDARD
BEGIN:STANDARD
DTSTART:20241027T020000
RDATE:20250330T030000
TZOFFSETFROM:+0200
TZOFFSETTO:+0100
TZNAME:Europe/Berlin CET
END:STANDARD
BEGIN:STANDARD
DTSTART:20251026T020000
RDATE:20260329T030000
TZOFFSETFROM:+0200
TZOFFSETTO:+0100
TZNAME:Europe/Berlin CET
END:STANDARD
BEGIN:STANDARD
DTSTART:20261025T020000
RDATE:20270328T030000
TZOFFSETFROM:+0200
TZOFFSETTO:+0100
TZNAME:Europe/Berlin CET
END:STANDARD
BEGIN:STANDARD
DTSTART:20271031T020000
RDATE:20280326T030000
TZOFFSETFROM:+0200
TZOFFSETTO:+0100
TZNAME:Europe/Berlin CET
END:STANDARD
BEGIN:DAYLIGHT
DTSTART:20200329T030000
RDATE:20201025T020000
TZOFFSETFROM:+0100
TZOFFSETTO:+0200
TZNAME:Europe/Berlin CEST
END:DAYLIGHT
BEGIN:DAYLIGHT
DTSTART:20210328T030000
RDATE:20211031T020000
TZOFFSETFROM:+0100
TZOFFSETTO:+0200
TZNAME:Europe/Berlin CEST
END:DAYLIGHT
BEGIN:DAYLIGHT
DTSTART:20220327T030000
RDATE:20221030T020000
TZOFFSETFROM:+0100
TZOFFSETTO:+0200
TZNAME:Europe/Berlin CEST
END:DAYLIGHT
BEGIN:DAYLIGHT
DTSTART:20230326T030000
RDATE:20231029T020000
TZOFFSETFROM:+0100
TZOFFSETTO:+0200
TZNAME:Europe/Berlin CEST
END:DAYLIGHT
BEGIN:DAYLIGHT
DTSTART:20240331T030000
RDATE:20241027T020000
TZOFFSETFROM:+0100
TZOFFSETTO:+0200
TZNAME:Europe/Berlin CEST
END:DAYLIGHT
BEGIN:DAYLIGHT
DTSTART:20250330T030000
RDATE:20251026T020000
TZOFFSETFROM:+0100
TZOFFSETTO:+0200
TZNAME:Europe/Berlin CEST
END:DAYLIGHT
BEGIN:DAYLIGHT
DTSTART:20260329T030000
RDATE:20261025T020000
TZOFFSETFROM:+0100
TZOFFSETTO:+0200
TZNAME:Europe/Berlin CEST
END:DAYLIGHT
BEGIN:DAYLIGHT
DTSTART:20270328T030000
RDATE:20271031T020000
TZOFFSETFROM:+0100
TZOFFSETTO:+0200
TZNAME:Europe/Berlin CEST
END:DAYLIGHT
END:VTIMEZONE
BEGIN:VEVENT
UID:cc64212de7f992d8af32cc51ec735689
CATEGORIES:Vereinsintern
CREATED:20210114T151317
SUMMARY:Der Online-Stammtisch
LOCATION:Onlineveranstaltung
URL;VALUE=URI:https://www.old.zeidler-wendelstein.de/index.php/termine2/eventdetail/516/-
 /der-online-stammtisch?tmpl=component
DESCRIPTION:<h2> </h2><h4><span style="background-color: #333333; color: #ffffff;"><em>
  </em>Was benötigst du zur Teilnahme?<em> </em></span></h4><ul><li><p>Einen
  Bildschirm (PC, Tablet oder dein Handy) mit aktiviertem Mikrofon, Kamera u
 nd Lautsprecher.</p></li><li><p>Den Teilnahme-Link zur Skypesitzung. Du ben
 ötigt <strong>kein Skype-Konto</strong>. Du kannst auch als <em>Gast </em>t
 eilnehmen.</p></li><li><p>Etwa eine Stunde deiner Zeit.</p></li></ul><h4><s
 pan style="background-color: #333333; color: #ffffff;"> Thema: <strong>Im</
 strong>kerarbeiten - Völker gut auswintern </span></h4><p><strong>Der letzt
 e imkerliche Eingriff war idealerweise die Winter-Varroabehandlung. Sonst h
 attest du nicht viel zu tun, ggf. die Bienenstände auf Sturmschäden kontrol
 liert und schauen dass die Fluglöcher nicht durch Totenfall oder Schnee ver
 sperrt sind. </strong></p><p>Ansonsten hast du die Bienen bei den kalten Te
 mperaturen in Ruhe gelassen, da jeder Eingriff den Wärmehaushalt stört - er
 st ab etwa 15°C beginnen wir zu imkern. Solange es Frost haben kann, sollte
 st Du die Mäusegitter auf jeden Fall dran lassen, denn auch die Mäuse frier
 t es noch. </p><p>Waren die Januarwochen recht mild, waren deine Bienen ver
 mutlich sehr aktiv und somit der Futterverbrauch vergleichsweise hoch. Viel
 leicht haben Deine Bienen auch schon einen ersten Ausflug nach draußen gema
 cht? Doch nun wird es wieder kälter und die Bienen kuscheln sich in ihrem w
 armen Zuhause aneinander und warten geduldig auf den Frühling. Sobald es la
 ngsam wärmer wird, beginnen die Bienen aufgrund des höheren Sonnenstandes w
 ieder mit dem Brutgeschäft - das kannst Du am Schwitzwasser am Flugloch erk
 ennen. Weit ausgedehnt werden die Flächen noch nicht, aber deine Bienen ber
 eiten sich dann langsam auf größere Brutmengen vor. </p><p>Bis die richtige
  Bienensaison beginnt, hast du noch etwas Zeit Vorbereitungen und offene Ar
 beiten zu erledigen. Dann steht dem erfolgreichen Start in das bevorstehend
 e Frühjahr nichts im Wege.</p><h4><span style="background-color: #333333; c
 olor: #ffffff;"> Technikprobe und Fragen: </span></h4><h4>Wenn du am Online
 -Stammtisch teilnimmst:</h4><ol><li><p>Du kannst deine Technik gern am <str
 ong>Dienstag, 16.02.2021 in der Zeit von 20:00 Uhr bis 20:15 Uhr</strong> t
 esten. Klicke hierzu auf den <strong>Testzugang-Link in deiner Einladungs-E
 -Mail</strong>. </p></li><li><p>Wenn du <strong>spezielle Fragen</strong> h
 ast, oder auch ein anderes Thema vorschlagen möchtest, bitte rechtzeitig vo
 rab per E-Mail an <span id="cloak314fb0ebd60972d372071475e3f522a9">Diese E-
 Mail-Adresse ist vor Spambots geschützt! Zur Anzeige muss JavaScript einges
 chaltet sein!</span><script type='text/javascript'>
				document.getElement
 ById('cloak314fb0ebd60972d372071475e3f522a9').innerHTML = '';
				var prefi
 x = '&#109;a' + 'i&#108;' + '&#116;o';
				var path = 'hr' + 'ef' + '=';
		
 		var addy314fb0ebd60972d372071475e3f522a9 = '&#105;nf&#111;' + '&#64;';
		
 		addy314fb0ebd60972d372071475e3f522a9 = addy314fb0ebd60972d372071475e3f522
 a9 + 'z&#101;&#105;dl&#101;r-w&#101;nd&#101;lst&#101;&#105;n' + '&#46;' + '
 d&#101;';
				var addy_text314fb0ebd60972d372071475e3f522a9 = '&#105;nf&#11
 1;' + '&#64;' + 'z&#101;&#105;dl&#101;r-w&#101;nd&#101;lst&#101;&#105;n' + 
 '&#46;' + 'd&#101;';document.getElementById('cloak314fb0ebd60972d372071475e
 3f522a9').innerHTML += '<a ' + path + '\'' + prefix + ':' + addy314fb0ebd60
 972d372071475e3f522a9 + '\'>'+addy_text314fb0ebd60972d372071475e3f522a9+'<\
 /a>';
		</script> mit dem <strong>Betreff Online-Stammtisch</strong>, damit
  wir uns ggf. darauf vorbereiten können.</p></li></ol><p><br />Wir freuen u
 ns auf dich und stehen dir für Fragen vorab gern zur Verfügung. <br /><br /
 ><span style="background-color: #ffcc00;"> Roland Sorgenfrei und Thomas Eib
 ich  </span></p> <a href="https://www.old.zeidler-wendelstein.de/index.php/
 termine2/eventdetail/516/-/der-online-stammtisch?tmpl=component">Dieser Eve
 nt wurde importiert von: https://www.old.zeidler-wendelstein.de/index.php/t
 ermine2/eventdetail/516/-/der-online-stammtisch?tmpl=component</a>CONTACT:Diese E-Mail-Adresse ist vor Spambots geschützt! Zur Anzeige muss JavaScript eingeschaltet sein!
				document.getElementById('cloak14b419968cd6e90e3fa858559e30d82d').innerHTML = '';
				var prefix = '&#109;a' + 'i&#108;' + '&#116;o';
				var path = 'hr' + 'ef' + '=';
				var addy14b419968cd6e90e3fa858559e30d82d = 'r&#111;l&#97;nd' + '&#64;';
				addy14b419968cd6e90e3fa858559e30d82d = addy14b419968cd6e90e3fa858559e30d82d + 'z&#101;&#105;dl&#101;r-w&#101;nd&#101;lst&#101;&#105;n' + '&#46;' + 'd&#101;';
				var addy_text14b419968cd6e90e3fa858559e30d82d = 'r&#111;l&#97;nd' + '&#64;' + 'z&#101;&#105;dl&#101;r-w&#101;nd&#101;lst&#101;&#105;n' + '&#46;' + 'd&#101;';document.getElementById('cloak14b419968cd6e90e3fa858559e30d82d').innerHTML += '<a ' + path + '\'' + prefix + ':' + addy14b419968cd6e90e3fa858559e30d82d + '\'>'+addy_text14b419968cd6e90e3fa858559e30d82d+'';
		; Diese E-Mail-Adresse ist vor Spambots geschützt! Zur Anzeige muss JavaScript eingeschaltet sein!
				document.getElementById('cloak8408e3c365dacba62fa5b0cb1c91a3c1').innerHTML = '';
				var prefix = '&#109;a' + 'i&#108;' + '&#116;o';
				var path = 'hr' + 'ef' + '=';
				var addy8408e3c365dacba62fa5b0cb1c91a3c1 = 'th&#111;m&#97;s' + '&#64;';
				addy8408e3c365dacba62fa5b0cb1c91a3c1 = addy8408e3c365dacba62fa5b0cb1c91a3c1 + 'z&#101;&#105;dl&#101;r-w&#101;nd&#101;lst&#101;&#105;n' + '&#46;' + 'd&#101;';
				var addy_text8408e3c365dacba62fa5b0cb1c91a3c1 = 'th&#111;m&#97;s' + '&#64;' + 'z&#101;&#105;dl&#101;r-w&#101;nd&#101;lst&#101;&#105;n' + '&#46;' + 'd&#101;';document.getElementById('cloak8408e3c365dacba62fa5b0cb1c91a3c1').innerHTML += '<a ' + path + '\'' + prefix + ':' + addy8408e3c365dacba62fa5b0cb1c91a3c1 + '\'>'+addy_text8408e3c365dacba62fa5b0cb1c91a3c1+'';
		
DTSTAMP:20260423T140535
DTSTART;TZID=Europe/Berlin:20210219T190000
DTEND;TZID=Europe/Berlin:20210219T200000
SEQUENCE:0
TRANSP:OPAQUE
END:VEVENT
END:VCALENDAR