BEGIN:VCALENDAR
VERSION:2.0
PRODID:-//jEvents 2.0 for Joomla//EN
CALSCALE:GREGORIAN
METHOD:PUBLISH
BEGIN:VTIMEZONE
TZID:Europe/Berlin
BEGIN:STANDARD
DTSTART:20201025T020000
RDATE:20210328T030000
TZOFFSETFROM:+0200
TZOFFSETTO:+0100
TZNAME:Europe/Berlin CET
END:STANDARD
BEGIN:STANDARD
DTSTART:20211031T020000
RDATE:20220327T030000
TZOFFSETFROM:+0200
TZOFFSETTO:+0100
TZNAME:Europe/Berlin CET
END:STANDARD
BEGIN:STANDARD
DTSTART:20221030T020000
RDATE:20230326T030000
TZOFFSETFROM:+0200
TZOFFSETTO:+0100
TZNAME:Europe/Berlin CET
END:STANDARD
BEGIN:STANDARD
DTSTART:20231029T020000
RDATE:20240331T030000
TZOFFSETFROM:+0200
TZOFFSETTO:+0100
TZNAME:Europe/Berlin CET
END:STANDARD
BEGIN:STANDARD
DTSTART:20241027T020000
RDATE:20250330T030000
TZOFFSETFROM:+0200
TZOFFSETTO:+0100
TZNAME:Europe/Berlin CET
END:STANDARD
BEGIN:STANDARD
DTSTART:20251026T020000
RDATE:20260329T030000
TZOFFSETFROM:+0200
TZOFFSETTO:+0100
TZNAME:Europe/Berlin CET
END:STANDARD
BEGIN:STANDARD
DTSTART:20261025T020000
RDATE:20270328T030000
TZOFFSETFROM:+0200
TZOFFSETTO:+0100
TZNAME:Europe/Berlin CET
END:STANDARD
BEGIN:STANDARD
DTSTART:20271031T020000
RDATE:20280326T030000
TZOFFSETFROM:+0200
TZOFFSETTO:+0100
TZNAME:Europe/Berlin CET
END:STANDARD
BEGIN:DAYLIGHT
DTSTART:20200421T190000
RDATE:20201025T020000
TZOFFSETFROM:+0100
TZOFFSETTO:+0200
TZNAME:Europe/Berlin CEST
END:DAYLIGHT
BEGIN:DAYLIGHT
DTSTART:20210328T030000
RDATE:20211031T020000
TZOFFSETFROM:+0100
TZOFFSETTO:+0200
TZNAME:Europe/Berlin CEST
END:DAYLIGHT
BEGIN:DAYLIGHT
DTSTART:20220327T030000
RDATE:20221030T020000
TZOFFSETFROM:+0100
TZOFFSETTO:+0200
TZNAME:Europe/Berlin CEST
END:DAYLIGHT
BEGIN:DAYLIGHT
DTSTART:20230326T030000
RDATE:20231029T020000
TZOFFSETFROM:+0100
TZOFFSETTO:+0200
TZNAME:Europe/Berlin CEST
END:DAYLIGHT
BEGIN:DAYLIGHT
DTSTART:20240331T030000
RDATE:20241027T020000
TZOFFSETFROM:+0100
TZOFFSETTO:+0200
TZNAME:Europe/Berlin CEST
END:DAYLIGHT
BEGIN:DAYLIGHT
DTSTART:20250330T030000
RDATE:20251026T020000
TZOFFSETFROM:+0100
TZOFFSETTO:+0200
TZNAME:Europe/Berlin CEST
END:DAYLIGHT
BEGIN:DAYLIGHT
DTSTART:20260329T030000
RDATE:20261025T020000
TZOFFSETFROM:+0100
TZOFFSETTO:+0200
TZNAME:Europe/Berlin CEST
END:DAYLIGHT
BEGIN:DAYLIGHT
DTSTART:20270328T030000
RDATE:20271031T020000
TZOFFSETFROM:+0100
TZOFFSETTO:+0200
TZNAME:Europe/Berlin CEST
END:DAYLIGHT
END:VTIMEZONE
BEGIN:VEVENT
UID:4dd8ae0515b737de16ddbe39d74064af
CATEGORIES:Vereinsintern
CREATED:20210422T093842
SUMMARY:Der Onlinestammtisch im April
URL;VALUE=URI:https://www.old.zeidler-wendelstein.de/index.php/termine2/eventdetail/519/-
 /der-onlinestammtisch-im-april?tmpl=component
DESCRIPTION: Der Onlinestammtisch steht derzeit nur den Gästen mit Zugansglink zur Verf
 ügung. \n\nLiebe*r Bienenfreund*in, \nheute um 19 Uhr treffen wir uns wiede
 r zu unserem virtuellen Stammtisch.\n\n Was benötigst du zur Teilnahme? \n 
 - Einen Bildschirm (PC, Tablet oder dein Handy) mit aktiviertem Mikrofon, K
 amera und Lautsprecher.\n\n - Den Zugangs-Link zur Skypesitzung, der per E-
 Mail an dich ging. Du benötigt kein Skype-Konto. Du kannst auch als Gast te
 ilnehmen.\n\n - Etwa eine Stunde deiner Zeit.\n Thema:  Wir haben kein fest
 es Thema - wie es sich ergibt, werden wir uns austauschen.\n Technikprobe u
 nd Fragen: Wenn du am Online-Stammtisch teilnimmst:\n - Du kannst deine Tec
 hnik etwa 10 Minuten vor dem Start testen, der Raum öffnet bereits etwas vo
 rher. \n\n - Wenn du spezielle Fragen hast, oder auch ein Thema vorschlagen
  möchtest, bitte rechtzeitig vorab per E-Mail an Diese E-Mail-Adresse ist v
 or Spambots geschützt! Zur Anzeige muss JavaScript eingeschaltet sein!
				
 document.getElementById('cloak7c9f8cce342ea77a4da5d9afa296b2b9').innerHTML 
 = '';
				var prefix = '&#109;a' + 'i&#108;' + '&#116;o';
				var path = 'h
 r' + 'ef' + '=';
				var addy7c9f8cce342ea77a4da5d9afa296b2b9 = '&#105;nf&#
 111;' + '&#64;';
				addy7c9f8cce342ea77a4da5d9afa296b2b9 = addy7c9f8cce342
 ea77a4da5d9afa296b2b9 + 'z&#101;&#105;dl&#101;r-w&#101;nd&#101;lst&#101;&#1
 05;n' + '&#46;' + 'd&#101;';
				var addy_text7c9f8cce342ea77a4da5d9afa296b
 2b9 = '&#105;nf&#111;' + '&#64;' + 'z&#101;&#105;dl&#101;r-w&#101;nd&#101;l
 st&#101;&#105;n' + '&#46;' + 'd&#101;';document.getElementById('cloak7c9f8c
 ce342ea77a4da5d9afa296b2b9').innerHTML += '<a ' + path + '\'' + prefix + ':
 ' + addy7c9f8cce342ea77a4da5d9afa296b2b9 + '\'>'+addy_text7c9f8cce342ea77a4
 da5d9afa296b2b9+'';
		 mit dem Betreff Online-Stammtisch, damit wir uns ggf
 . darauf vorbereiten können.\n\nWir freuen uns auf dich und stehen dir für 
 Fragen vorab gern zur Verfügung. \n\n Roland und Daniel \n \n Dieser Event 
 wurde importiert von: https://www.old.zeidler-wendelstein.de/index.php/term
 ine2/eventdetail/519/-/der-onlinestammtisch-im-april?tmpl=component
X-ALT-DESC;FMTTYPE=text/html:<h4><span style="background-color: #333333; color: #ffffff;"><em><span styl
 e="background-color: #ffcc00; color: #333333;"> Der Onlinestammtisch steht 
 derzeit nur den Gästen mit Zugansglink zur Verfügung. </span><br /><br /></
 em></span></h4><p><span style="font-family: arial, helvetica, sans-serif; c
 olor: #333333;">Liebe*r Bienenfreund*in, </span></p><p><span style="font-fa
 mily: arial, helvetica, sans-serif; color: #333333;">heute um 19 Uhr treffe
 n wir uns wieder zu unserem virtuellen Stammtisch.</span><span style="font-
 family: arial, helvetica, sans-serif; color: #333333;"><br /></span></p><h4
 ><span style="background-color: #333333; color: #ffffff;"><em> </em>Was ben
 ötigst du zur Teilnahme?<em> </em></span></h4><ul><li><p>Einen Bildschirm (
 PC, Tablet oder dein Handy) mit aktiviertem Mikrofon, Kamera und Lautsprech
 er.</p></li><li><p>Den <strong>Zugangs-Link</strong> zur Skypesitzung, der 
 per E-Mail an dich ging. Du benötigt <strong>kein Skype-Konto</strong>. Du 
 kannst auch als <em>Gast </em>teilnehmen.</p></li><li><p>Etwa eine Stunde d
 einer Zeit.</p></li></ul><h4><span style="background-color: #333333; color:
  #ffffff;"> Thema:  </span></h4><p>Wir haben kein festes Thema - wie es sic
 h ergibt, werden wir uns austauschen.</p><h4><span style="background-color:
  #333333; color: #ffffff;"> Technikprobe und Fragen: </span></h4><h4>Wenn d
 u am Online-Stammtisch teilnimmst:</h4><ol><li><p>Du kannst deine Technik e
 twa 10 Minuten vor dem Start testen, der Raum öffnet bereits etwas vorher. 
 </p></li><li><p>Wenn du <strong>spezielle Fragen</strong> hast, oder auch e
 in Thema vorschlagen möchtest, bitte rechtzeitig vorab per E-Mail an <span 
 id="cloak7c9f8cce342ea77a4da5d9afa296b2b9">Diese E-Mail-Adresse ist vor Spa
 mbots geschützt! Zur Anzeige muss JavaScript eingeschaltet sein!</span><scr
 ipt type='text/javascript'>
				document.getElementById('cloak7c9f8cce342ea
 77a4da5d9afa296b2b9').innerHTML = '';
				var prefix = '&#109;a' + 'i&#108;
 ' + '&#116;o';
				var path = 'hr' + 'ef' + '=';
				var addy7c9f8cce342ea7
 7a4da5d9afa296b2b9 = '&#105;nf&#111;' + '&#64;';
				addy7c9f8cce342ea77a4d
 a5d9afa296b2b9 = addy7c9f8cce342ea77a4da5d9afa296b2b9 + 'z&#101;&#105;dl&#1
 01;r-w&#101;nd&#101;lst&#101;&#105;n' + '&#46;' + 'd&#101;';
				var addy_t
 ext7c9f8cce342ea77a4da5d9afa296b2b9 = '&#105;nf&#111;' + '&#64;' + 'z&#101;
 &#105;dl&#101;r-w&#101;nd&#101;lst&#101;&#105;n' + '&#46;' + 'd&#101;';docu
 ment.getElementById('cloak7c9f8cce342ea77a4da5d9afa296b2b9').innerHTML += '
 <a ' + path + '\'' + prefix + ':' + addy7c9f8cce342ea77a4da5d9afa296b2b9 + 
 '\'>'+addy_text7c9f8cce342ea77a4da5d9afa296b2b9+'<\/a>';
		</script> mit de
 m <strong>Betreff Online-Stammtisch</strong>, damit wir uns ggf. darauf vor
 bereiten können.</p></li></ol><p><br />Wir freuen uns auf dich und stehen d
 ir für Fragen vorab gern zur Verfügung. <br /><br /><span style="background
 -color: #ffcc00;"> Roland und Daniel </span></p><p> </p> <a href="https://w
 ww.old.zeidler-wendelstein.de/index.php/termine2/eventdetail/519/-/der-onli
 nestammtisch-im-april?tmpl=component">Dieser Event wurde importiert von: ht
 tps://www.old.zeidler-wendelstein.de/index.php/termine2/eventdetail/519/-/d
 er-onlinestammtisch-im-april?tmpl=component</a>DTSTAMP:20260424T122125
DTSTART;TZID=Europe/Berlin:20210422T190000
SEQUENCE:0
TRANSP:OPAQUE
END:VEVENT
END:VCALENDAR