BEGIN:VCALENDAR
VERSION:2.0
PRODID:-//jEvents 2.0 for Joomla//EN
CALSCALE:GREGORIAN
METHOD:PUBLISH
BEGIN:VTIMEZONE
TZID:Europe/Berlin
BEGIN:STANDARD
DTSTART:20201025T020000
RDATE:20210328T030000
TZOFFSETFROM:+0200
TZOFFSETTO:+0100
TZNAME:Europe/Berlin CET
END:STANDARD
BEGIN:STANDARD
DTSTART:20211031T020000
RDATE:20220327T030000
TZOFFSETFROM:+0200
TZOFFSETTO:+0100
TZNAME:Europe/Berlin CET
END:STANDARD
BEGIN:STANDARD
DTSTART:20221030T020000
RDATE:20230326T030000
TZOFFSETFROM:+0200
TZOFFSETTO:+0100
TZNAME:Europe/Berlin CET
END:STANDARD
BEGIN:STANDARD
DTSTART:20231029T020000
RDATE:20240331T030000
TZOFFSETFROM:+0200
TZOFFSETTO:+0100
TZNAME:Europe/Berlin CET
END:STANDARD
BEGIN:STANDARD
DTSTART:20241027T020000
RDATE:20250330T030000
TZOFFSETFROM:+0200
TZOFFSETTO:+0100
TZNAME:Europe/Berlin CET
END:STANDARD
BEGIN:STANDARD
DTSTART:20251026T020000
RDATE:20260329T030000
TZOFFSETFROM:+0200
TZOFFSETTO:+0100
TZNAME:Europe/Berlin CET
END:STANDARD
BEGIN:STANDARD
DTSTART:20261025T020000
RDATE:20270328T030000
TZOFFSETFROM:+0200
TZOFFSETTO:+0100
TZNAME:Europe/Berlin CET
END:STANDARD
BEGIN:STANDARD
DTSTART:20271031T020000
RDATE:20280326T030000
TZOFFSETFROM:+0200
TZOFFSETTO:+0100
TZNAME:Europe/Berlin CET
END:STANDARD
BEGIN:DAYLIGHT
DTSTART:20200722T190000
RDATE:20201025T020000
TZOFFSETFROM:+0100
TZOFFSETTO:+0200
TZNAME:Europe/Berlin CEST
END:DAYLIGHT
BEGIN:DAYLIGHT
DTSTART:20210328T030000
RDATE:20211031T020000
TZOFFSETFROM:+0100
TZOFFSETTO:+0200
TZNAME:Europe/Berlin CEST
END:DAYLIGHT
BEGIN:DAYLIGHT
DTSTART:20220327T030000
RDATE:20221030T020000
TZOFFSETFROM:+0100
TZOFFSETTO:+0200
TZNAME:Europe/Berlin CEST
END:DAYLIGHT
BEGIN:DAYLIGHT
DTSTART:20230326T030000
RDATE:20231029T020000
TZOFFSETFROM:+0100
TZOFFSETTO:+0200
TZNAME:Europe/Berlin CEST
END:DAYLIGHT
BEGIN:DAYLIGHT
DTSTART:20240331T030000
RDATE:20241027T020000
TZOFFSETFROM:+0100
TZOFFSETTO:+0200
TZNAME:Europe/Berlin CEST
END:DAYLIGHT
BEGIN:DAYLIGHT
DTSTART:20250330T030000
RDATE:20251026T020000
TZOFFSETFROM:+0100
TZOFFSETTO:+0200
TZNAME:Europe/Berlin CEST
END:DAYLIGHT
BEGIN:DAYLIGHT
DTSTART:20260329T030000
RDATE:20261025T020000
TZOFFSETFROM:+0100
TZOFFSETTO:+0200
TZNAME:Europe/Berlin CEST
END:DAYLIGHT
BEGIN:DAYLIGHT
DTSTART:20270328T030000
RDATE:20271031T020000
TZOFFSETFROM:+0100
TZOFFSETTO:+0200
TZNAME:Europe/Berlin CEST
END:DAYLIGHT
END:VTIMEZONE
BEGIN:VEVENT
UID:6215c659b1a0b8efbfedcf8f4731b719
CATEGORIES:Vereinsintern
CREATED:20210422T094200
SUMMARY:ENTFÄLLT wegen Jahrenhauptversammlung - Der Onlinestammtisch im Juli
URL;VALUE=URI:https://www.old.zeidler-wendelstein.de/index.php/termine2/eventdetail/522/-
 /entfaellt-wegen-jahrenhauptversammlung-der-onlinestammtisch-im-juli?tmpl=c
 omponent
DESCRIPTION:ENTFEÄLLT  Der Onlinestammtisch steht derzeit nur den Gästen mit Zugansglin
 k zur Verfügung. \n\nLiebe*r Bienenfreund*in, \nheute um 19 Uhr treffen wir
  uns wieder zu unserem virtuellen Stammtisch. \n\n Was benötigst du zur Tei
 lnahme? \n - Einen Bildschirm (PC, Tablet oder dein Handy) mit aktiviertem 
 Mikrofon, Kamera und Lautsprecher.\n\n - Den Zugangs-Link zur Skypesitzung,
  der per E-Mail an dich ging. Du benötigt kein Skype-Konto. Du kannst auch 
 als Gast teilnehmen.\n\n - Etwa eine Stunde deiner Zeit.\n Thema:  Wir habe
 n kein festes Thema - wie es sich ergibt, werden wir uns austauschen.\n Tec
 hnikprobe und Fragen: Wenn du am Online-Stammtisch teilnimmst:\n - Du kanns
 t deine Technik etwa 10 Minuten vor dem Start testen, der Raum öffnet berei
 ts etwas vorher. \n\n - Wenn du spezielle Fragen hast, oder auch ein Thema 
 vorschlagen möchtest, bitte rechtzeitig vorab per E-Mail an Diese E-Mail-Ad
 resse ist vor Spambots geschützt! Zur Anzeige muss JavaScript eingeschaltet
  sein!
				document.getElementById('cloaka6304d5e969b349a002c3b3b7c216e48')
 .innerHTML = '';
				var prefix = '&#109;a' + 'i&#108;' + '&#116;o';
				va
 r path = 'hr' + 'ef' + '=';
				var addya6304d5e969b349a002c3b3b7c216e48 = 
 '&#105;nf&#111;' + '&#64;';
				addya6304d5e969b349a002c3b3b7c216e48 = addy
 a6304d5e969b349a002c3b3b7c216e48 + 'z&#101;&#105;dl&#101;r-w&#101;nd&#101;l
 st&#101;&#105;n' + '&#46;' + 'd&#101;';
				var addy_texta6304d5e969b349a00
 2c3b3b7c216e48 = '&#105;nf&#111;' + '&#64;' + 'z&#101;&#105;dl&#101;r-w&#10
 1;nd&#101;lst&#101;&#105;n' + '&#46;' + 'd&#101;';document.getElementById('
 cloaka6304d5e969b349a002c3b3b7c216e48').innerHTML += '<a ' + path + '\'' + 
 prefix + ':' + addya6304d5e969b349a002c3b3b7c216e48 + '\'>'+addy_texta6304d
 5e969b349a002c3b3b7c216e48+'';
		 mit dem Betreff Online-Stammtisch, damit 
 wir uns ggf. darauf vorbereiten können.\n\nWir freuen uns auf dich und steh
 en dir für Fragen vorab gern zur Verfügung. \n\n Roland und Daniel \n \n Di
 eser Event wurde importiert von: https://www.old.zeidler-wendelstein.de/ind
 ex.php/termine2/eventdetail/522/-/entfaellt-wegen-jahrenhauptversammlung-de
 r-onlinestammtisch-im-juli?tmpl=component (https://www.old.zeidler-wendelst
 ein.de/index.php/termine2/eventdetail/522/-/entfaellt-wegen-jahrenhauptvers
 ammlung-der-onlinestammtisch-im-juli?tmpl=component)
X-ALT-DESC;FMTTYPE=text/html:<h4><span style="background-color: #333333; color: #ffffff;"><em><span styl
 e="background-color: #ffcc00; color: #333333;">ENTFEÄLLT  Der Onlinestammti
 sch steht derzeit nur den Gästen mit Zugansglink zur Verfügung. </span><br 
 /><br /></em></span></h4><p><span style="font-family: arial, helvetica, san
 s-serif; color: #333333;">Liebe*r Bienenfreund*in, </span></p><p><span styl
 e="font-family: arial, helvetica, sans-serif; color: #333333;">heute um 19 
 Uhr treffen wir uns wieder zu unserem virtuellen Stammtisch.</span><span st
 yle="font-family: arial, helvetica, sans-serif; color: #333333;"> <br /></s
 pan></p><h4><span style="background-color: #333333; color: #ffffff;"><em> <
 /em>Was benötigst du zur Teilnahme?<em> </em></span></h4><ul><li><p>Einen B
 ildschirm (PC, Tablet oder dein Handy) mit aktiviertem Mikrofon, Kamera und
  Lautsprecher.</p></li><li><p>Den <strong>Zugangs-Link</strong> zur Skypesi
 tzung, der per E-Mail an dich ging. Du benötigt <strong>kein Skype-Konto</s
 trong>. Du kannst auch als <em>Gast </em>teilnehmen.</p></li><li><p>Etwa ei
 ne Stunde deiner Zeit.</p></li></ul><h4><span style="background-color: #333
 333; color: #ffffff;"> Thema:  </span></h4><p>Wir haben kein festes Thema -
  wie es sich ergibt, werden wir uns austauschen.</p><h4><span style="backgr
 ound-color: #333333; color: #ffffff;"> Technikprobe und Fragen: </span></h4
 ><h4>Wenn du am Online-Stammtisch teilnimmst:</h4><ol><li><p>Du kannst dein
 e Technik etwa 10 Minuten vor dem Start testen, der Raum öffnet bereits etw
 as vorher. </p></li><li><p>Wenn du <strong>spezielle Fragen</strong> hast, 
 oder auch ein Thema vorschlagen möchtest, bitte rechtzeitig vorab per E-Mai
 l an <span id="cloaka6304d5e969b349a002c3b3b7c216e48">Diese E-Mail-Adresse 
 ist vor Spambots geschützt! Zur Anzeige muss JavaScript eingeschaltet sein!
 </span><script type='text/javascript'>
				document.getElementById('cloaka6
 304d5e969b349a002c3b3b7c216e48').innerHTML = '';
				var prefix = '&#109;a'
  + 'i&#108;' + '&#116;o';
				var path = 'hr' + 'ef' + '=';
				var addya63
 04d5e969b349a002c3b3b7c216e48 = '&#105;nf&#111;' + '&#64;';
				addya6304d5
 e969b349a002c3b3b7c216e48 = addya6304d5e969b349a002c3b3b7c216e48 + 'z&#101;
 &#105;dl&#101;r-w&#101;nd&#101;lst&#101;&#105;n' + '&#46;' + 'd&#101;';
			
 	var addy_texta6304d5e969b349a002c3b3b7c216e48 = '&#105;nf&#111;' + '&#64;'
  + 'z&#101;&#105;dl&#101;r-w&#101;nd&#101;lst&#101;&#105;n' + '&#46;' + 'd&
 #101;';document.getElementById('cloaka6304d5e969b349a002c3b3b7c216e48').inn
 erHTML += '<a ' + path + '\'' + prefix + ':' + addya6304d5e969b349a002c3b3b
 7c216e48 + '\'>'+addy_texta6304d5e969b349a002c3b3b7c216e48+'<\/a>';
		</scr
 ipt> mit dem <strong>Betreff Online-Stammtisch</strong>, damit wir uns ggf.
  darauf vorbereiten können.</p></li></ol><p><br />Wir freuen uns auf dich u
 nd stehen dir für Fragen vorab gern zur Verfügung. <br /><br /><span style=
 "background-color: #ffcc00;"> Roland und Daniel </span></p><p> </p> <a href
 ="https://www.old.zeidler-wendelstein.de/index.php/termine2/eventdetail/522
 /-/entfaellt-wegen-jahrenhauptversammlung-der-onlinestammtisch-im-juli?tmpl
 =component">Dieser Event wurde importiert von: https://www.old.zeidler-wend
 elstein.de/index.php/termine2/eventdetail/522/-/entfaellt-wegen-jahrenhaupt
 versammlung-der-onlinestammtisch-im-juli?tmpl=component</a>DTSTAMP:20260423T155714
DTSTART;TZID=Europe/Berlin:20210723T190000
SEQUENCE:0
TRANSP:OPAQUE
END:VEVENT
END:VCALENDAR