BEGIN:VCALENDAR
VERSION:2.0
PRODID:-//jEvents 2.0 for Joomla//EN
CALSCALE:GREGORIAN
METHOD:PUBLISH
BEGIN:VTIMEZONE
TZID:Europe/Berlin
BEGIN:STANDARD
DTSTART:20201025T020000
RDATE:20210328T030000
TZOFFSETFROM:+0200
TZOFFSETTO:+0100
TZNAME:Europe/Berlin CET
END:STANDARD
BEGIN:STANDARD
DTSTART:20211031T020000
RDATE:20220327T030000
TZOFFSETFROM:+0200
TZOFFSETTO:+0100
TZNAME:Europe/Berlin CET
END:STANDARD
BEGIN:STANDARD
DTSTART:20221030T020000
RDATE:20230326T030000
TZOFFSETFROM:+0200
TZOFFSETTO:+0100
TZNAME:Europe/Berlin CET
END:STANDARD
BEGIN:STANDARD
DTSTART:20231029T020000
RDATE:20240331T030000
TZOFFSETFROM:+0200
TZOFFSETTO:+0100
TZNAME:Europe/Berlin CET
END:STANDARD
BEGIN:STANDARD
DTSTART:20241027T020000
RDATE:20250330T030000
TZOFFSETFROM:+0200
TZOFFSETTO:+0100
TZNAME:Europe/Berlin CET
END:STANDARD
BEGIN:STANDARD
DTSTART:20251026T020000
RDATE:20260329T030000
TZOFFSETFROM:+0200
TZOFFSETTO:+0100
TZNAME:Europe/Berlin CET
END:STANDARD
BEGIN:STANDARD
DTSTART:20261025T020000
RDATE:20270328T030000
TZOFFSETFROM:+0200
TZOFFSETTO:+0100
TZNAME:Europe/Berlin CET
END:STANDARD
BEGIN:STANDARD
DTSTART:20271031T020000
RDATE:20280326T030000
TZOFFSETFROM:+0200
TZOFFSETTO:+0100
TZNAME:Europe/Berlin CET
END:STANDARD
BEGIN:DAYLIGHT
DTSTART:20200916T190000
RDATE:20201025T020000
TZOFFSETFROM:+0100
TZOFFSETTO:+0200
TZNAME:Europe/Berlin CEST
END:DAYLIGHT
BEGIN:DAYLIGHT
DTSTART:20210328T030000
RDATE:20211031T020000
TZOFFSETFROM:+0100
TZOFFSETTO:+0200
TZNAME:Europe/Berlin CEST
END:DAYLIGHT
BEGIN:DAYLIGHT
DTSTART:20220327T030000
RDATE:20221030T020000
TZOFFSETFROM:+0100
TZOFFSETTO:+0200
TZNAME:Europe/Berlin CEST
END:DAYLIGHT
BEGIN:DAYLIGHT
DTSTART:20230326T030000
RDATE:20231029T020000
TZOFFSETFROM:+0100
TZOFFSETTO:+0200
TZNAME:Europe/Berlin CEST
END:DAYLIGHT
BEGIN:DAYLIGHT
DTSTART:20240331T030000
RDATE:20241027T020000
TZOFFSETFROM:+0100
TZOFFSETTO:+0200
TZNAME:Europe/Berlin CEST
END:DAYLIGHT
BEGIN:DAYLIGHT
DTSTART:20250330T030000
RDATE:20251026T020000
TZOFFSETFROM:+0100
TZOFFSETTO:+0200
TZNAME:Europe/Berlin CEST
END:DAYLIGHT
BEGIN:DAYLIGHT
DTSTART:20260329T030000
RDATE:20261025T020000
TZOFFSETFROM:+0100
TZOFFSETTO:+0200
TZNAME:Europe/Berlin CEST
END:DAYLIGHT
BEGIN:DAYLIGHT
DTSTART:20270328T030000
RDATE:20271031T020000
TZOFFSETFROM:+0100
TZOFFSETTO:+0200
TZNAME:Europe/Berlin CEST
END:DAYLIGHT
END:VTIMEZONE
BEGIN:VEVENT
UID:cba12a292d619782071c712f84c47fe6
CATEGORIES:Vereinsintern
CREATED:20210422T095228
SUMMARY:Der Präsenz-Stammtisch im September
LOCATION:Lehrbienenstand Königshammer - Vereinsgebäude
URL;VALUE=URI:https://www.old.zeidler-wendelstein.de/index.php/termine2/eventdetail/524/-
 /der-praesenz-stammtisch-im-september?tmpl=component
DESCRIPTION:Liebe*r Bienenfreund*in, heute um 19 Uhr treffen wir uns wieder zu unserem 
 virtuellen Stammtisch. \n\n Was benötigst du zur Teilnahme? \n - Einen Nach
 weis der 3G (geimpft, genesen, getestet)\n Thema:  Wir haben kein festes Th
 ema - wie es sich ergibt, werden wir uns austauschen.\n\nWir freuen uns auf
  dich und stehen dir für Fragen vorab gern zur Verfügung. \n\n Roland und M
 ichael  \n Dieser Event wurde importiert von: https://www.old.zeidler-wende
 lstein.de/index.php/termine2/eventdetail/524/-/der-praesenz-stammtisch-im-s
 eptember?tmpl=component (https://www.old.zeidler-wendelstein.de/index.php/t
 ermine2/eventdetail/524/-/der-praesenz-stammtisch-im-september?tmpl=compone
 nt)
X-ALT-DESC;FMTTYPE=text/html:<h4><span style="font-family: arial, helvetica, sans-serif; color: #333333;
 ">Liebe*r Bienenfreund*in, </span></h4><p><span style="font-family: arial, 
 helvetica, sans-serif; color: #333333;">heute um 19 Uhr treffen wir uns wie
 der zu unserem virtuellen Stammtisch.</span><span style="font-family: arial
 , helvetica, sans-serif; color: #333333;"> <br /></span></p><h4><span style
 ="background-color: #333333; color: #ffffff;"><em> </em>Was benötigst du zu
 r Teilnahme?<em> </em></span></h4><ul><li><p>Einen Nachweis der 3G (geimpft
 , genesen, getestet)</p></li></ul><h4><span style="background-color: #33333
 3; color: #ffffff;"> Thema:  </span></h4><p>Wir haben kein festes Thema - w
 ie es sich ergibt, werden wir uns austauschen.</p><h4><br />Wir freuen uns 
 auf dich und stehen dir für Fragen vorab gern zur Verfügung. <br /><br /><s
 pan style="background-color: #ffcc00;"> Roland und Michael </span></h4><p> 
 </p> <a href="https://www.old.zeidler-wendelstein.de/index.php/termine2/eve
 ntdetail/524/-/der-praesenz-stammtisch-im-september?tmpl=component">Dieser 
 Event wurde importiert von: https://www.old.zeidler-wendelstein.de/index.ph
 p/termine2/eventdetail/524/-/der-praesenz-stammtisch-im-september?tmpl=comp
 onent</a>CONTACT:Roland und Michael S.
X-EXTRAINFO:Interessierte Bienenfreunde heißen wir herzlich willkommen zum regen Inform
 ations- und Erfahrungsaustausch.
DTSTAMP:20260422T012905
DTSTART;TZID=Europe/Berlin:20210917T190000
SEQUENCE:0
TRANSP:OPAQUE
END:VEVENT
END:VCALENDAR