BEGIN:VCALENDAR
VERSION:2.0
PRODID:-//jEvents 2.0 for Joomla//EN
CALSCALE:GREGORIAN
METHOD:PUBLISH
BEGIN:VTIMEZONE
TZID:Europe/Berlin
BEGIN:STANDARD
DTSTART:20211031T020000
RDATE:20220327T030000
TZOFFSETFROM:+0200
TZOFFSETTO:+0100
TZNAME:Europe/Berlin CET
END:STANDARD
BEGIN:STANDARD
DTSTART:20221030T020000
RDATE:20230326T030000
TZOFFSETFROM:+0200
TZOFFSETTO:+0100
TZNAME:Europe/Berlin CET
END:STANDARD
BEGIN:STANDARD
DTSTART:20231029T020000
RDATE:20240331T030000
TZOFFSETFROM:+0200
TZOFFSETTO:+0100
TZNAME:Europe/Berlin CET
END:STANDARD
BEGIN:STANDARD
DTSTART:20241027T020000
RDATE:20250330T030000
TZOFFSETFROM:+0200
TZOFFSETTO:+0100
TZNAME:Europe/Berlin CET
END:STANDARD
BEGIN:STANDARD
DTSTART:20251026T020000
RDATE:20260329T030000
TZOFFSETFROM:+0200
TZOFFSETTO:+0100
TZNAME:Europe/Berlin CET
END:STANDARD
BEGIN:STANDARD
DTSTART:20261025T020000
RDATE:20270328T030000
TZOFFSETFROM:+0200
TZOFFSETTO:+0100
TZNAME:Europe/Berlin CET
END:STANDARD
BEGIN:STANDARD
DTSTART:20271031T020000
RDATE:20280326T030000
TZOFFSETFROM:+0200
TZOFFSETTO:+0100
TZNAME:Europe/Berlin CET
END:STANDARD
BEGIN:DAYLIGHT
DTSTART:20210910T100000
RDATE:20211031T020000
TZOFFSETFROM:+0100
TZOFFSETTO:+0200
TZNAME:Europe/Berlin CEST
END:DAYLIGHT
BEGIN:DAYLIGHT
DTSTART:20220327T030000
RDATE:20221030T020000
TZOFFSETFROM:+0100
TZOFFSETTO:+0200
TZNAME:Europe/Berlin CEST
END:DAYLIGHT
BEGIN:DAYLIGHT
DTSTART:20230326T030000
RDATE:20231029T020000
TZOFFSETFROM:+0100
TZOFFSETTO:+0200
TZNAME:Europe/Berlin CEST
END:DAYLIGHT
BEGIN:DAYLIGHT
DTSTART:20240331T030000
RDATE:20241027T020000
TZOFFSETFROM:+0100
TZOFFSETTO:+0200
TZNAME:Europe/Berlin CEST
END:DAYLIGHT
BEGIN:DAYLIGHT
DTSTART:20250330T030000
RDATE:20251026T020000
TZOFFSETFROM:+0100
TZOFFSETTO:+0200
TZNAME:Europe/Berlin CEST
END:DAYLIGHT
BEGIN:DAYLIGHT
DTSTART:20260329T030000
RDATE:20261025T020000
TZOFFSETFROM:+0100
TZOFFSETTO:+0200
TZNAME:Europe/Berlin CEST
END:DAYLIGHT
BEGIN:DAYLIGHT
DTSTART:20270328T030000
RDATE:20271031T020000
TZOFFSETFROM:+0100
TZOFFSETTO:+0200
TZNAME:Europe/Berlin CEST
END:DAYLIGHT
END:VTIMEZONE
BEGIN:VEVENT
UID:b921e4e385b57a426da10a49d83e7b82
CATEGORIES:Anfängerkurs
CREATED:20220312T082415
SUMMARY:Theorie 7 - Imkern auf Probe
LOCATION:online
URL;VALUE=URI:https://www.old.zeidler-wendelstein.de/index.php/termine2/eventdetail/567/-
 /theorie-7-imkern-auf-probe?tmpl=component
DESCRIPTION:°Thema:° Spätsommerpflege Jungvölker\nAuch Vereinsmitglieder sind bei Inter
 esse gern gesehen.\n Dieser Event wurde importiert von: https://www.old.zei
 dler-wendelstein.de/index.php/termine2/eventdetail/567/-/theorie-7-imkern-a
 uf-probe?tmpl=component (https://www.old.zeidler-wendelstein.de/index.php/t
 ermine2/eventdetail/567/-/theorie-7-imkern-auf-probe?tmpl=component)
X-ALT-DESC;FMTTYPE=text/html:<p><span style="font-family: helvetica, arial, sans-serif; font-size: 10pt;
 "><span style="background-color: #333333; color: #ffffff;"><span style="col
 or: #333333;">°</span>Thema:<span style="color: #333333;">°</span></span><s
 pan style="color: #ffffff;"> </span>Spätsommerpflege Jungvölker</span></p><
 p>Auch Vereinsmitglieder sind bei Interesse gern gesehen.</p> <a href="http
 s://www.old.zeidler-wendelstein.de/index.php/termine2/eventdetail/567/-/the
 orie-7-imkern-auf-probe?tmpl=component">Dieser Event wurde importiert von: 
 https://www.old.zeidler-wendelstein.de/index.php/termine2/eventdetail/567/-
 /theorie-7-imkern-auf-probe?tmpl=component</a>CONTACT:Diese E-Mail-Adresse ist vor Spambots geschützt! Zur Anzeige muss JavaScript eingeschaltet sein!
				document.getElementById('cloak59ce7d6e0ff931dcdfc56c73a3589e3a').innerHTML = '';
				var prefix = '&#109;a' + 'i&#108;' + '&#116;o';
				var path = 'hr' + 'ef' + '=';
				var addy59ce7d6e0ff931dcdfc56c73a3589e3a = '&#105;nf&#111;' + '&#64;';
				addy59ce7d6e0ff931dcdfc56c73a3589e3a = addy59ce7d6e0ff931dcdfc56c73a3589e3a + 'z&#101;&#105;dl&#101;r-w&#101;nd&#101;lst&#101;&#105;n' + '&#46;' + 'd&#101;';
				var addy_text59ce7d6e0ff931dcdfc56c73a3589e3a = '&#105;nf&#111;' + '&#64;' + 'z&#101;&#105;dl&#101;r-w&#101;nd&#101;lst&#101;&#105;n' + '&#46;' + 'd&#101;';document.getElementById('cloak59ce7d6e0ff931dcdfc56c73a3589e3a').innerHTML += '<a ' + path + '\'' + prefix + ':' + addy59ce7d6e0ff931dcdfc56c73a3589e3a + '\'>'+addy_text59ce7d6e0ff931dcdfc56c73a3589e3a+'';
		
X-EXTRAINFO:Referent: Thomas Pfaffinger
DTSTAMP:20260421T133736
DTSTART;TZID=Europe/Berlin:20220911T100000
SEQUENCE:0
TRANSP:OPAQUE
END:VEVENT
END:VCALENDAR